BEGIN:VCALENDAR
VERSION:2.0
PRODID:icalendar-ruby
CALSCALE:GREGORIAN
METHOD:PUBLISH
BEGIN:VEVENT
DTSTAMP:20260423T144540Z
UID:140-275391@cvillechristian.org
DTSTART:20260507T120000Z
DTEND:20260508T000000Z
CLASS:PUBLIC
CREATED:20260422T152213
DESCRIPTION:The Prayer Ministry Team invites you to participate in an "on y
 our own" prayer vigil on the National Day of Prayer on May 7th. We'll begi
 n at 8:00 AM and wrap up at 8:00 PM. You can sign up for a time slot (or m
 ore) by clicking the link below. Don't worry if your preferred time slot i
 s taken\, the more the merrier. \nWe will send out some prompts to help y
 ou during your hour of prayer. If you have any questions\, contact the chu
 rch office!
LAST-MODIFIED:20260422T152213
LOCATION:
SUMMARY:12-Hour Prayer Vigil
URL;VALUE=URI:https://www.cvillechristian.org/events/12-hour-prayer-vigil/2
 026-05-07
ATTACH;FILENAME=prayer-banner-1024x256.jpg;FMTTYPE=image/jpeg:https://dq5pw
 pg1q8ru0.cloudfront.net/2026/04/22/19/22/13/b8731b86-fe08-4d4e-9d05-63c96a
 f29a55/prayer-banner-1024x256.jpg
END:VEVENT
END:VCALENDAR
