BEGIN:VCALENDAR
VERSION:2.0
PRODID:icalendar-ruby
CALSCALE:GREGORIAN
METHOD:PUBLISH
BEGIN:VEVENT
DTSTAMP:20260425T133716Z
UID:109-278844@cvillechristian.org
DTSTART:20260819T220000Z
DTEND:20260819T233000Z
CLASS:PUBLIC
CREATED:20260425T071637
DESCRIPTION:Join us each Wednesday night for a wild games\, worship through
  singing\, and a a message to help you navigate your journey to be rooted 
 in God's love. 
LAST-MODIFIED:20260425T071637
LOCATION:Family Life Center
SUMMARY:Fuel - Middle and High School
URL;VALUE=URI:https://www.cvillechristian.org/events/fuel-middle-and-high-s
 chool/2026-08-19
ATTACH;FILENAME=Fuel Full Logo.png;FMTTYPE=image/png:https://dq5pwpg1q8ru0.
 cloudfront.net/2025/03/04/20/09/42/b1ad4d5c-78e4-4e27-a97c-4ec66b1ce8e0/Fu
 el%20Full%20Logo.png
END:VEVENT
END:VCALENDAR
