BEGIN:VCALENDAR
VERSION:2.0
PRODID:icalendar-ruby
CALSCALE:GREGORIAN
METHOD:PUBLISH
BEGIN:VEVENT
DTSTAMP:20260420T013550Z
UID:108-271670@cvillechristian.org
DTSTART:20260812T220000Z
DTEND:20260812T230000Z
CLASS:PUBLIC
CREATED:20260419T185258
DESCRIPTION:Join us each Wednesday night for fun\, games\, and learning how
  to apply the Good News of Jesus! 
LAST-MODIFIED:20260419T185258
LOCATION:Treehouse Room
SUMMARY:Rooted Kids - Wednesday's
URL;VALUE=URI:https://www.cvillechristian.org/events/rooted-kids-wednesdays
 /2026-08-12
ATTACH;FILENAME=RootedKids_Color.jpg;FMTTYPE=image/jpeg:https://dq5pwpg1q8r
 u0.cloudfront.net/2025/03/04/20/03/03/69a3d8b7-0d8c-42cf-9f67-3e676b955a4f
 /RootedKids_Color.jpg
END:VEVENT
END:VCALENDAR
