BEGIN:VCALENDAR
VERSION:2.0
PRODID:icalendar-ruby
CALSCALE:GREGORIAN
METHOD:PUBLISH
BEGIN:VEVENT
DTSTAMP:20260420T052836Z
UID:108-271886@cvillechristian.org
DTSTART:20260826T220000Z
DTEND:20260826T230000Z
CLASS:PUBLIC
CREATED:20260419T223220
DESCRIPTION:Join us each Wednesday night for fun\, games\, and learning how
  to apply the Good News of Jesus! 
LAST-MODIFIED:20260419T223220
LOCATION:Treehouse Room
SUMMARY:Rooted Kids - Wednesday's
URL;VALUE=URI:https://www.cvillechristian.org/events/rooted-kids-wednesdays
 /2026-08-26
ATTACH;FILENAME=RootedKids_Color.jpg;FMTTYPE=image/jpeg:https://dq5pwpg1q8r
 u0.cloudfront.net/2025/03/04/20/03/03/69a3d8b7-0d8c-42cf-9f67-3e676b955a4f
 /RootedKids_Color.jpg
END:VEVENT
END:VCALENDAR
